BEGIN:VCALENDAR
VERSION:2.0
PRODID:-//Grone GeSo - ECPv6.15.20//NONSGML v1.0//EN
CALSCALE:GREGORIAN
METHOD:PUBLISH
X-WR-CALNAME:Grone GeSo
X-ORIGINAL-URL:https://grone-geso.de
X-WR-CALDESC:Veranstaltungen für Grone GeSo
REFRESH-INTERVAL;VALUE=DURATION:PT1H
X-Robots-Tag:noindex
X-PUBLISHED-TTL:PT1H
BEGIN:VTIMEZONE
TZID:Europe/Berlin
BEGIN:DAYLIGHT
TZOFFSETFROM:+0100
TZOFFSETTO:+0200
TZNAME:CEST
DTSTART:20240331T010000
END:DAYLIGHT
BEGIN:STANDARD
TZOFFSETFROM:+0200
TZOFFSETTO:+0100
TZNAME:CET
DTSTART:20241027T010000
END:STANDARD
BEGIN:DAYLIGHT
TZOFFSETFROM:+0100
TZOFFSETTO:+0200
TZNAME:CEST
DTSTART:20250330T010000
END:DAYLIGHT
BEGIN:STANDARD
TZOFFSETFROM:+0200
TZOFFSETTO:+0100
TZNAME:CET
DTSTART:20251026T010000
END:STANDARD
BEGIN:DAYLIGHT
TZOFFSETFROM:+0100
TZOFFSETTO:+0200
TZNAME:CEST
DTSTART:20260329T010000
END:DAYLIGHT
BEGIN:STANDARD
TZOFFSETFROM:+0200
TZOFFSETTO:+0100
TZNAME:CET
DTSTART:20261025T010000
END:STANDARD
BEGIN:DAYLIGHT
TZOFFSETFROM:+0100
TZOFFSETTO:+0200
TZNAME:CEST
DTSTART:20270328T010000
END:DAYLIGHT
BEGIN:STANDARD
TZOFFSETFROM:+0200
TZOFFSETTO:+0100
TZNAME:CET
DTSTART:20271031T010000
END:STANDARD
END:VTIMEZONE
BEGIN:VEVENT
DTSTART;VALUE=DATE:20260401
DTEND;VALUE=DATE:20260402
DTSTAMP:20260424T110255
CREATED:20250909T094507Z
LAST-MODIFIED:20260318T122338Z
UID:10000003-1775001600-1775087999@grone-geso.de
SUMMARY:Ausbildung Ergotherapeut
DESCRIPTION:Ausbildung Ergotherapeut*in\nSelbstbestimmung fördern: ganzheitlich\, kreativ\, flexibel\nStaatlich anerkannte Berufsausbildung mit WFOT- Anerkennung\nEines haben wir Menschen unabhängig von Gesundheit oder Krankheit gemeinsam: Wir möchten ein selbstbestimmtes Leben führen. Als Ergotherapeut*in unterstützen Sie Patient*innen dabei\, ein möglichst selbstständiges Leben zu führen und im Alltag oder Beruf handlungsfähig zu sein. Durch Sensibilisierung der Gesellschaft für die Notwendigkeit von Therapien ist die Nachfrage nach qualifiziertem Fachpersonal so hoch wie nie. Daher entwickelt sich das Berufsbild Ergotherapie stetig weiter und eröffnet neue Betätigungsfelder. Seit vielen Jahren bildet unsere Grone-Berufsfachschule für Ergotherapie mit Erfolg aus. Unsere kompetenten Dozent*innen arbeiten nach den neuesten wissenschaftlichen Erkenntnissen und bilden sich ständig weiter. Unsere Schüler*innen werden durch Mentor*innen eng begleitet und auf den beruflichen Alltag vorbereitet. Unsere Berufsausbildung ist vom Weltverband der Ergotherapeuten (WFOT) anerkannt. Zusätzlich haben Sie die Möglichkeit\, parallel zur Ausbildung den Studiengang Therapie- und Pflegewissenschaften (B.Sc.\, 8 Semester) dual an der mit uns kooperierenden Hamburger Fern-Hochschule zu belegen. Als Schüler*in unserer Berufsfachschule zahlen Sie seit 2019 außerdem kein Schulgeld mehr. \n\n\n											\n										Flyer\n											\n									\n\n											\n										E-Mail schreiben\n											\n									\n\n											\n										Route planen\n											\n									\n\nIhre Ansprechpartnerin\nFrau Annabelle NdoroSchulsekretariat \nTel: 040 23703 – 550Fax: 040 23703 – 591Mail: ergotherapie.hamburg@grone.de \nVeranstaltungsort\nGrone Berufsfachschule für ErgotherapieHeinrich-Grone-Stieg 220097 Hamburg \n\n	\n	Zum Kalender hinzufügen	\n		\n	\n \n\n\n	Google Kalender\n\n\n	iCalendar\n\n\n	Outlook 365\n\n\n	Outlook Live\n\n\n\n\n										Termine\n									\n\n	\n			Apr.\n			1\n	 \n\n\n		\n		Ganztägig	 \n\n	\n		Ausbildung Ergotherapeut	\n\n\n\n	\n			Okt.\n			1\n	 \n\n\n		\n		Ganztägig	 \n\n	\n		Ausbildung Ergotherapeut	\n\n\n\n	\n		Kalender anzeigen	\n					\n									Jetzt bewerben\n					 \nWas ist Ergotherapie? Film ab! ​\n		https://grone-geso.de/wp-content/uploads/2022/11/Film_Ergotherapie.mov \nErgotherapeut*innen behandeln Menschen jeden Alters\, die in ihrer Handlungsfähigkeit und Selbstständigkeit beeinträchtigt sind. Durch individuelle Angebote und gezielte Übungen unterstützen Sie dabei\, die Handlungsfähigkeit der Patient*innen zu erhalten\, zu verbessern oder verlorengegangene Fähigkeiten wieder zu erlangen. Ergotherapeut*innen fördern die Selbstbestimmung und Selbstständigkeit der Patient*innen\, sorgen somit für eine Verbesserung der Lebensqualität und ermöglichen gesellschaftliche Teilhabe. Sie möchten noch mehr über den attraktiven Therapieberuf Ergotherapie erfahren? Dann melden Sie sich bei uns\, wir beraten Sie gern. \nMögliche Arbeitsfelder\nErgotherapeut*innen arbeiten hauptsächlich in  \n\nergotherapeutischen Praxen\nKrankenhäusern und Rehakliniken\nKindertagesstätten und Schulen\nAlten-und Pflegeeinrichtungen \nTages- und Förderstätten für Menschen mit Behinderung\nWerkstätten für Menschen mit Behinderung\n\nAusbildungsablauf\nDreijährige theoretisch-praktische Ausbildung mit abschließender staatlicher Prüfung \nTheoretischer und fachpraktischer Unterricht \n\nSemester 1 bis 4\n2.700 Unterrichtsstunden\nMontag bis Freitag von 08.15 Uhr bis 15.30 Uhr in den Räumlichkeiten von Grone in Hammerbrook\n\nPraktika \n\nSemester 5 und 6\n1.700 Unterrichtseinheiten à 60 min.\nOrganisation und Betreuung durch unsere Lehrkräfte in Hamburg und Umgebung\nIn Zusammenarbeit mit bewährten Kooperationspartner*innen\n\nAusbildungsinhalte\n\nGrundlagen der Ergotherapie\, Arbeitsmedizin\, Gesundheitslehre und Hygiene\nPsychologie\, Pädagogik\, Sonderpädagogik\, Soziologie\nBehandlungsverfahren\, inkl. adaptierende Verfahren (motorisch-funktionell\, psycho-sozial\, neuropsychologisch\, neurophysiologisch\, arbeitstherapeutisch\, pädiatrisch)\nSpezielle und allgemeine Krankheitslehre\, wie z.B. Anatomie\, Chirurgie und Neurologie\nHandwerkliche und gestalterische Techniken mit verschiedenen Materialien\nPrävention und Rehabilitation\nFachenglisch und Wissenschaftliches Arbeiten\nInterkulturelles Lernen und Kommunikationsverfahren\nBerufs- und Gesetzeskunde\n\nPraktika \n\nPsychosozialer Bereich\nArbeitstherapeutischer Bereich\nMotorisch- funktioneller Bereich\nNeuropsychologischer/neurophysiologischer Bereich\n\nDie Arbeit mit Kindern\, Erwachsenen und Senior*innen muss in den Praktika abgedeckt werden. \nKosten und Fördermöglichkeiten\n\nDie Ausbildung zum*zur Ergotherapeut*in ist schulgeldfrei\nkeine Kursgebühr\, weder Aufnahme- noch Prüfungsgebühr!\nMaterialgebühr von monatlich 30 €\n\nFördermöglichkeiten \n\nSchüler-BAföG (darlehensfrei)\nBildungskredit der KFW\n\nPersönliche Voraussetzungen\n\nRealschulabschluss oder\nHauptschulabschluss mit einer 2- jährigen abgeschlossenen Berufsausbildung\nNach dem Examen ein polizeiliches Führungszeugnis und ein ärztliches Attest für die Beantragung der Berufsurkunde zum*zur staatlich anerkannten Ergotherapeut*in\n\nSie möchten dual studieren – auch das geht bei uns\nSie haben die Möglichkeit\, parallel zur Ausbildung den Studiengang Therapie- und Pflegewissenschaften (B.Sc.\, 8 Semester) dual an der mit uns kooperierenden Hamburger Fern-Hochschule zu belegen. Staatlich anerkannter Abschluss (Bachelor of Science)  \n\nFlexible Zeiteinteilung durch Fernstudium\n4 Jahre (ausbildungsbegleitend)\n\nDer Studiengang steht unter dem Leitbild der reflektierenden Praktiker*innen\, die als wissenschaftlich ausgebildete und interaktionsstarke “Macher*innen” ihrer jeweiligen Berufsfelder zu verstehen sind. Im interdisziplinär ausgerichteten dualen Bachelorstudiengang vertiefen und erweitern Sie Ihre fachlichen Kompetenzen aus der Ausbildung und lernen\, Kenntnisse aus Wissenschaft und Praxis miteinander zu verknüpfen. Sie haben Fragen? Sprechen Sie uns gern an.\n															\n															\n															\n																														 \nDie Ausbildung wird freudlicherweise von der Stadt Hamburg gefördert. \n															\n					\n									Jetzt bewerben\n					 \nDie Ausbildung zum*zur Ergotherapeut*in basiert auf dem ErgThG.www.gesetze-im-internet.de
URL:https://grone-geso.de/kurs/ausbildung-ergotherapeut/
LOCATION:Grone Berufsfachschule für Ergotherapie\, Heinrich-Grone-Stieg 2\, Hamburg\, Hamburg\, 20097\, Germany
CATEGORIES:Ausbildungen,Ergo
END:VEVENT
BEGIN:VEVENT
DTSTART;VALUE=DATE:20250909
DTEND;VALUE=DATE:20250910
DTSTAMP:20260424T110255
CREATED:20250909T132142Z
LAST-MODIFIED:20260318T125356Z
UID:10000012-1757376000-1757462399@grone-geso.de
SUMMARY:Basics der Hand: Anatomie\, manuelle Therapie und Narbenbehandlung
DESCRIPTION:Basics der Hand : Anatomie\, manuelle Therapie und Narbenbehandlung\nFortbildung für Ergotherapeut*innen \nErweitern Sie Ihre Kenntnisse und Fähigkeiten in der Handtherapie und Narbenbehandlung mit unserem zweitägigen Basic Kurs. Dieser Kurs ist speziell für Ergotherapeut*innen konzipiert\, die ihr Wissen vertiefen und neue praktische Fähigkeiten erwerben möchten. Lernen Sie von unserer Expertin Lina Bücker und profitieren Sie von einer Mischung aus Theorie und Praxis\, um Ihre Klient*innen noch besser unterstützen zu können. \nZiele des Workshops\nIn diesem Kurs erlangen Sie ein fundiertes Verständnis der Anatomie der Hand und deren funktionellen Zusammenhang mit Schulter und Ellenbogen. Sie werden manuelle ergotherapeutische Behandlungen sinnvoll abwägen und einsetzen sowie professionelle Narbenbehandlungen durchführen können. \nSprechen Sie uns an!\n Sie haben noch Fragen? Sprechen Sie uns gern an oder schreiben Sie uns. Wir freuen uns auf Sie!  \n\n\n											\n										Flyer\n											\n									\n\n											\n										E-Mail schreiben\n											\n									\n\n											\n										Route planen\n											\n									\n\nIhre Ansprechpartnerin\nSekretariat Ergotherapie \nTel: 040 23703 – 560Fax: 040 23703 – 591Mail: ergotherapie.hamburg@grone.de \nVeranstaltungsort\nGrone Berufsfachschule für ErgotherapieHeinrich-Grone-Stieg 220097 Hamburg \n\n	\n	Zum Kalender hinzufügen	\n		\n	\n \n\n\n	Google Kalender\n\n\n	iCalendar\n\n\n	Outlook 365\n\n\n	Outlook Live\n\n\n\n\n										Termine\n									\n\n										neue Termine folgen\n									\n\n			\n	\n		\n		\n		\n		\n	\n\n	Hinweis\n					Es sind keine anstehenden Veranstaltungen vorhanden.\n					\n									Jetzt anmelden\n					 \nInhalte im Überblick\n\nTag 1\n\n\nAnatomie der Hand\n\nKnochen\, Gelenke\, Bänder\, Muskeln\nZusammenfassung der Anatomie von Ellenbogen und Schulter\n\n\n\n\n\n\n\n\nManuelle Therapie der Hand\n\nSinnvolle Einsatzmöglichkeiten manueller Therapie\nTechniken und Vorgehensweisen der manuellen Therapie\nTransfer der manuellen Therapie in den Alltag mit aktiven Übungen\n\n\n\n\nTag 2\n\nAnatomie der Haut und Wundheilung\n\nAnatomie der Haut und Arten von Narben\nWundheilungsphasen sowie deren Einflussfaktoren\n\n\n\n\n\n\n\n\nGanzheitliche Narbenbehandlung\n\nErstellung eines Narbenbefundes\nTechniken und Vorgehensweisen\nErgotherapeutischer Bezug zur Narbenbehandlung\n\n\n\n\n\nMethoden\nDer Kurs kombiniert theoretische Wissensvermittlung mit praxisorientierten Übungen. Durch interaktive Vorträge\, anschauliche Demonstrationen und gezielte Praxisübungen in Kleingruppen wird der optimale Lernerfolg gesichert. \nKosten\nDie Kursgebühr beträgt 360€. \nReferentin\nLina Bücker (Ergotherapeutin & zertifizierte Handtherapeutin) \n „Die ganzheitliche Handtherapie in der Ergotherapie ist mein Herzensthema\, denn ich möchte\, dass wir nicht das Symptom behandeln\, sondern auch die Ursache. Und diese finden wir meistens in unserem Alltag!“ (Lina Bücker) \n					\n									Jetzt anmelden
URL:https://grone-geso.de/kurs/basics-der-hand-anatomie-manuelle-therapie-und-narbenbehandlung/
LOCATION:Grone Berufsfachschule für Ergotherapie\, Heinrich-Grone-Stieg 2\, Hamburg\, Hamburg\, 20097\, Germany
CATEGORIES:Ergo,Fachqualifizierungen
END:VEVENT
BEGIN:VEVENT
DTSTART;VALUE=DATE:20250909
DTEND;VALUE=DATE:20250910
DTSTAMP:20260424T110255
CREATED:20250909T131740Z
LAST-MODIFIED:20260318T125443Z
UID:10000011-1757376000-1757462399@grone-geso.de
SUMMARY:Aufbaukurs: Nervenkompressionssyndrome
DESCRIPTION:Aufbaukurs: Nervenkompressionssyndrome\nFortbildung für Ergotherapeut*innen \nVertiefen Sie Ihre Kenntnisse und Fähigkeiten in der Behandlung von Nervenkompressionssyndromen mit unserem intensiven Fortbildungstag. Dieser Kurs richtet sich an Ergotherapeut*innen\, die ihre Diagnostik- und Behandlungskompetenzen auf den Bereich der Nervenkompressionssyndrome erweitern möchten. \nZiele des Workshops\nIn diesem Kurs erlangen Sie ein fundiertes Wissen über die Anatomie und Funktion des peripheren und vegetativen Nervensystems. Sie werden die Fähigkeit erwerben\, Nervenkompressionssyndrome anhand unterschiedlicher Testungen zu befunden und auf dieser Grundlage verschiedene Behandlungsmethoden auszuwählen und anzuwenden.  \nSprechen Sie uns an!\n Sie haben noch Fragen? Sprechen Sie uns gern an oder schreiben Sie uns. Wir freuen uns auf Sie!  \n\n\n											\n										Flyer\n											\n									\n\n											\n										E-Mail schreiben\n											\n									\n\n											\n										Route planen\n											\n									\n\nIhre Ansprechpartnerin\nFrau Annabelle NdoroSekretariat Ergotherapie \nTel: 040 23703 – 560Fax: 040 23703 – 591Mail: ergotherapie.hamburg@grone.de \nVeranstaltungsort\nGrone Berufsfachschule für ErgotherapieHeinrich-Grone-Stieg 220097 Hamburg \n\n	\n	Zum Kalender hinzufügen	\n		\n	\n \n\n\n	Google Kalender\n\n\n	iCalendar\n\n\n	Outlook 365\n\n\n	Outlook Live\n\n\n\n\n										Termine\n									\n\n			\n	\n		\n		\n		\n		\n	\n\n	Hinweis\n					Es sind keine anstehenden Veranstaltungen vorhanden.\n					\n									Jetzt anmelden\n					 \nInhalte im Überblick\n\nAnatomie und Funktion des Nervensystems sowie dessen Bedeutung bei der Behandlung von Nervenerkrankungen und Schmerzen\n\nz.B. Nervus Ulnaris\, NervusMedianus und Nervus Radialis \n\n\nUrsachen verschiedener Nervenkompressionssyndrome\n\nZ.B. Karpaltunnelsyndrom\,Kubitaltunnelsyndrom\, Radialtunnelsyndrom\n\n\nBefundung verschiedener Nervenkompressionssyndrome\nBehandlung von Nervenkompressionssyndromen Techniken der Nervenmobilisation\n\nMethoden\nDer Kurs kombiniert theoretische Wissensvermittlung mit praxisorientierten Übungen. Durch interaktive Vorträge\, anschauliche Demonstrationen und gezielte Praxisübungen in Kleingruppen wird der optimale Lernerfolg gesichert. \nKosten\nDie Kursgebühr beträgt 180€. \nReferentin\nLina Bücker (Ergotherapeutin & zertifizierte Handtherapeutin) \n „Die ganzheitliche Handtherapie in der Ergotherapie ist mein Herzensthema\, denn ich möchte\, dass wir nicht das Symptom behandeln\, sondern auch die Ursache. Und diese finden wir meistens in unserem Alltag!“ (Lina Bücker) \n					\n									Jetzt anmelden
URL:https://grone-geso.de/kurs/aufbaukurs-nervenkompressionssyndrome/
LOCATION:Grone Berufsfachschule für Ergotherapie\, Heinrich-Grone-Stieg 2\, Hamburg\, Hamburg\, 20097\, Germany
CATEGORIES:Ergo,Fachqualifizierungen
END:VEVENT
END:VCALENDAR