BEGIN:VCALENDAR
VERSION:2.0
PRODID:-//Grone GeSo - ECPv6.15.20//NONSGML v1.0//EN
CALSCALE:GREGORIAN
METHOD:PUBLISH
X-WR-CALNAME:Grone GeSo
X-ORIGINAL-URL:https://grone-geso.de
X-WR-CALDESC:Veranstaltungen für Grone GeSo
REFRESH-INTERVAL;VALUE=DURATION:PT1H
X-Robots-Tag:noindex
X-PUBLISHED-TTL:PT1H
BEGIN:VTIMEZONE
TZID:Europe/Berlin
BEGIN:DAYLIGHT
TZOFFSETFROM:+0100
TZOFFSETTO:+0200
TZNAME:CEST
DTSTART:20250330T010000
END:DAYLIGHT
BEGIN:STANDARD
TZOFFSETFROM:+0200
TZOFFSETTO:+0100
TZNAME:CET
DTSTART:20251026T010000
END:STANDARD
BEGIN:DAYLIGHT
TZOFFSETFROM:+0100
TZOFFSETTO:+0200
TZNAME:CEST
DTSTART:20260329T010000
END:DAYLIGHT
BEGIN:STANDARD
TZOFFSETFROM:+0200
TZOFFSETTO:+0100
TZNAME:CET
DTSTART:20261025T010000
END:STANDARD
BEGIN:DAYLIGHT
TZOFFSETFROM:+0100
TZOFFSETTO:+0200
TZNAME:CEST
DTSTART:20270328T010000
END:DAYLIGHT
BEGIN:STANDARD
TZOFFSETFROM:+0200
TZOFFSETTO:+0100
TZNAME:CET
DTSTART:20271031T010000
END:STANDARD
END:VTIMEZONE
BEGIN:VEVENT
DTSTART;TZID=Europe/Berlin:20260706T080000
DTEND;TZID=Europe/Berlin:20260710T170000
DTSTAMP:20260424T145038
CREATED:20260306T114003Z
LAST-MODIFIED:20260318T115749Z
UID:10000157-1783324800-1783702800@grone-geso.de
SUMMARY:Manuelle Therapie Serie 7 WS3
DESCRIPTION:Manuelle Therapie - Serie 7 - Examen				\n				\n				\n				\n					\n		\n			15.Dezember.2026\n\n		\n	\n	  -  \n\n	17.Dezember.2026\n\n	\n				\n				\n					\n		\n					\n		\n				\n						\n					\n			\n						\n				\n					Examen				\n				\n				\n				\n							\n							\n											\n\n												\n													\n										E-Mail schreiben\n											\n									\n								\n											\n\n												\n													\n										Route planen\n											\n									\n						\n						\n				\n				\n				\n									Alle Kurse der Serie 7Start Serie 7 November 2024EX1 13.11.2024 – 17.11.2024 (50 UE): Schulter\, EllenbogenEX2 24.02.2025 – 28.02.2025 (50UE): Hand\, HüfteEX3 21.05.2025 – 25.05.2025 (50 UE): Knie\, FußWS1 20.08.2025 – 24.08.2025 (50 UE) ISG\, LWSWS2 23.02.2026 – 27.02.2026 (50 UE): BWS\, RippenWS3 06.07.2026 – 10.07.2026 (50 UE): HWS und Kopfgelenke\, integriert KieferTU 15.08.2026 – 16.08.2026 (20 UE): Theoretischer ärztl. UnterrichtPV 29.10.2026 – 02.11.2026 (50 UE): Optionale Prüfungsvorbereitung:Fallbeispiele\, Synthese\, Examensvorbereitung Examen*: 15.12.2026 – 17.12.2026 Examen\, 40 UE – in den Räumlichkeiten von Grone in Hamburg\, Heinrich-Grone-Stieg 2optional: KG Gerät / MT Reha Kurs\, 40 UE\, € 270\,00*Voraussetzung zur Teilnahme: ein schriftlicher Befund muss bis spätestens acht Wochen vor der Prüfung eingereicht werden (genaue Informationen dazu bekommen Sie im Kurs)Zwischen Kurseinstieg und Examen müssen 24 Monte vergangen sein.Gesamteinheiten (inkl. PV): 450 UE 								\n				\n					\n		\n				\n			\n						\n				\n					Ihre Ansprechpartnerin				\n				\n				\n				\n									Frau Birgit BerkeSchulleitung Tel: 040 23703 – 552Fax: 040 23703 – 591Mail: physiotherapie.hamburg@grone.de 								\n				\n				\n				\n									VeranstaltungsortGrone Berufsfachschule für PhysiotherapieHeinrich-Grone-Stieg 220097 Hamburg 								\n				\n				\n				\n									\n					\n						\n									Jetzt anmelden\n					\n					\n				\n								\n				\n				\n				\n					\n	\n		\n\n	\n	Zum Kalender hinzufügen	\n		\n	\n\n		\n			\n									\n	Google Kalender\n\n									\n	iCalendar\n\n									\n	Outlook 365\n\n									\n	Outlook Live\n\n							\n		\n\n		\n	\n\n				\n				\n				\n				\n																\n															\n															\n				\n					\n		\n					\n		\n				\n						\n					\n			\n						\n				\n									Kursgebühren inkl. Skript								\n				\n					\n		\n					\n		\n				\n						\n					\n			\n						\n				\n									Start-Kurs EX1:€ 490\,00€ 441\,00*								\n				\n					\n		\n				\n			\n						\n				\n									Kurs EX2-WS3 je:€ 490\,00€ 441\,00*								\n				\n					\n		\n				\n			\n						\n				\n									TU:€ 240\,00€ 216\,00*								\n				\n					\n		\n				\n			\n						\n				\n									Examen:€ 530\,00								\n				\n					\n		\n				\n			\n						\n				\n									PV:€ 490\,00€ 441\,00*								\n				\n					\n		\n					\n		\n				\n						\n					\n			\n							\n		\n				\n			\n						\n				\n									Gesamtkosten (400 UE):€ 3.710\,00€ 3.392\,00*								\n				\n					\n		\n				\n			\n						\n				\n									Gesamtkosten inkl. PV Kurs (450 UE):€ 4.200\,00€ 3.833\,00*								\n				\n					\n		\n				\n			\n							\n		\n					\n		\n				\n						\n					\n			\n						\n				\n									*Ehemalige Schüler*innen des Grone Bildungszentrums für Gesundheits- und Sozialberufe erhalten auf die Kurse EX2-WS3\, TU und PV eine Ermäßigung von 10%! Sie können sich für jeden Kurs einzeln oder für alle zusammen anmelden. Die Kursgebühr ist bis zum jeweiligen Start des Kurses fällig. Sie haben noch Fragen? Sprechen Sie uns gern an oder schreiben Sie uns. Wir freuen uns auf Sie! 								\n				\n					\n		\n					\n		\n				\n						\n					\n			\n						\n				\n									\n					\n						\n									Jetzt anmelden
URL:https://grone-geso.de/kurs/manuelle-therapie-serie-7-ws3/
LOCATION:Grone Berufsfachschule für Physiotherapie\, Heinrich-Grone-Stieg 2\, Hamburg\, Hamburg\, 20097\, Germany
CATEGORIES:Manuelle Therapie Serie 7
END:VEVENT
BEGIN:VEVENT
DTSTART;TZID=Europe/Berlin:20260815T080000
DTEND;TZID=Europe/Berlin:20260816T170000
DTSTAMP:20260424T145039
CREATED:20260306T115203Z
LAST-MODIFIED:20260318T115357Z
UID:10000158-1786780800-1786899600@grone-geso.de
SUMMARY:Manuelle Therapie Serie 7 TU
DESCRIPTION:Manuelle Therapie - Serie 7 - Examen				\n				\n				\n				\n					\n		\n			15.Dezember.2026\n\n		\n	\n	  -  \n\n	17.Dezember.2026\n\n	\n				\n				\n					\n		\n					\n		\n				\n						\n					\n			\n						\n				\n					Examen				\n				\n				\n				\n							\n							\n											\n\n												\n													\n										E-Mail schreiben\n											\n									\n								\n											\n\n												\n													\n										Route planen\n											\n									\n						\n						\n				\n				\n				\n									Alle Kurse der Serie 7Start Serie 7 November 2024EX1 13.11.2024 – 17.11.2024 (50 UE): Schulter\, EllenbogenEX2 24.02.2025 – 28.02.2025 (50UE): Hand\, HüfteEX3 21.05.2025 – 25.05.2025 (50 UE): Knie\, FußWS1 20.08.2025 – 24.08.2025 (50 UE) ISG\, LWSWS2 23.02.2026 – 27.02.2026 (50 UE): BWS\, RippenWS3 06.07.2026 – 10.07.2026 (50 UE): HWS und Kopfgelenke\, integriert KieferTU 15.08.2026 – 16.08.2026 (20 UE): Theoretischer ärztl. UnterrichtPV 29.10.2026 – 02.11.2026 (50 UE): Optionale Prüfungsvorbereitung:Fallbeispiele\, Synthese\, Examensvorbereitung Examen*: 15.12.2026 – 17.12.2026 Examen\, 40 UE – in den Räumlichkeiten von Grone in Hamburg\, Heinrich-Grone-Stieg 2optional: KG Gerät / MT Reha Kurs\, 40 UE\, € 270\,00*Voraussetzung zur Teilnahme: ein schriftlicher Befund muss bis spätestens acht Wochen vor der Prüfung eingereicht werden (genaue Informationen dazu bekommen Sie im Kurs)Zwischen Kurseinstieg und Examen müssen 24 Monte vergangen sein.Gesamteinheiten (inkl. PV): 450 UE 								\n				\n					\n		\n				\n			\n						\n				\n					Ihre Ansprechpartnerin				\n				\n				\n				\n									Frau Birgit BerkeSchulleitung Tel: 040 23703 – 552Fax: 040 23703 – 591Mail: physiotherapie.hamburg@grone.de 								\n				\n				\n				\n									VeranstaltungsortGrone Berufsfachschule für PhysiotherapieHeinrich-Grone-Stieg 220097 Hamburg 								\n				\n				\n				\n									\n					\n						\n									Jetzt anmelden\n					\n					\n				\n								\n				\n				\n				\n					\n	\n		\n\n	\n	Zum Kalender hinzufügen	\n		\n	\n\n		\n			\n									\n	Google Kalender\n\n									\n	iCalendar\n\n									\n	Outlook 365\n\n									\n	Outlook Live\n\n							\n		\n\n		\n	\n\n				\n				\n				\n				\n																\n															\n															\n				\n					\n		\n					\n		\n				\n						\n					\n			\n						\n				\n									Kursgebühren inkl. Skript								\n				\n					\n		\n					\n		\n				\n						\n					\n			\n						\n				\n									Start-Kurs EX1:€ 490\,00€ 441\,00*								\n				\n					\n		\n				\n			\n						\n				\n									Kurs EX2-WS3 je:€ 490\,00€ 441\,00*								\n				\n					\n		\n				\n			\n						\n				\n									TU:€ 240\,00€ 216\,00*								\n				\n					\n		\n				\n			\n						\n				\n									Examen:€ 530\,00								\n				\n					\n		\n				\n			\n						\n				\n									PV:€ 490\,00€ 441\,00*								\n				\n					\n		\n					\n		\n				\n						\n					\n			\n							\n		\n				\n			\n						\n				\n									Gesamtkosten (400 UE):€ 3.710\,00€ 3.392\,00*								\n				\n					\n		\n				\n			\n						\n				\n									Gesamtkosten inkl. PV Kurs (450 UE):€ 4.200\,00€ 3.833\,00*								\n				\n					\n		\n				\n			\n							\n		\n					\n		\n				\n						\n					\n			\n						\n				\n									*Ehemalige Schüler*innen des Grone Bildungszentrums für Gesundheits- und Sozialberufe erhalten auf die Kurse EX2-WS3\, TU und PV eine Ermäßigung von 10%! Sie können sich für jeden Kurs einzeln oder für alle zusammen anmelden. Die Kursgebühr ist bis zum jeweiligen Start des Kurses fällig. Sie haben noch Fragen? Sprechen Sie uns gern an oder schreiben Sie uns. Wir freuen uns auf Sie! 								\n				\n					\n		\n					\n		\n				\n						\n					\n			\n						\n				\n									\n					\n						\n									Jetzt anmelden
URL:https://grone-geso.de/kurs/manuelle-therapie-serie-7-tu/
LOCATION:Grone Berufsfachschule für Physiotherapie\, Heinrich-Grone-Stieg 2\, Hamburg\, Hamburg\, 20097\, Germany
CATEGORIES:Manuelle Therapie Serie 7
END:VEVENT
BEGIN:VEVENT
DTSTART;TZID=Europe/Berlin:20261215T080000
DTEND;TZID=Europe/Berlin:20261217T170000
DTSTAMP:20260424T145039
CREATED:20260306T115538Z
LAST-MODIFIED:20260318T113240Z
UID:10000159-1797321600-1797526800@grone-geso.de
SUMMARY:Manuelle Therapie Serie 7 Examen
DESCRIPTION:Manuelle Therapie - Serie 7 - Examen				\n				\n				\n				\n					\n		\n			15.Dezember.2026\n\n		\n	\n	  -  \n\n	17.Dezember.2026\n\n	\n				\n				\n					\n		\n					\n		\n				\n						\n					\n			\n						\n				\n					Examen				\n				\n				\n				\n							\n							\n											\n\n												\n													\n										E-Mail schreiben\n											\n									\n								\n											\n\n												\n													\n										Route planen\n											\n									\n						\n						\n				\n				\n				\n									Alle Kurse der Serie 7Start Serie 7 November 2024EX1 13.11.2024 – 17.11.2024 (50 UE): Schulter\, EllenbogenEX2 24.02.2025 – 28.02.2025 (50UE): Hand\, HüfteEX3 21.05.2025 – 25.05.2025 (50 UE): Knie\, FußWS1 20.08.2025 – 24.08.2025 (50 UE) ISG\, LWSWS2 23.02.2026 – 27.02.2026 (50 UE): BWS\, RippenWS3 06.07.2026 – 10.07.2026 (50 UE): HWS und Kopfgelenke\, integriert KieferTU 15.08.2026 – 16.08.2026 (20 UE): Theoretischer ärztl. UnterrichtPV 29.10.2026 – 02.11.2026 (50 UE): Optionale Prüfungsvorbereitung:Fallbeispiele\, Synthese\, Examensvorbereitung Examen*: 15.12.2026 – 17.12.2026 Examen\, 40 UE – in den Räumlichkeiten von Grone in Hamburg\, Heinrich-Grone-Stieg 2optional: KG Gerät / MT Reha Kurs\, 40 UE\, € 270\,00*Voraussetzung zur Teilnahme: ein schriftlicher Befund muss bis spätestens acht Wochen vor der Prüfung eingereicht werden (genaue Informationen dazu bekommen Sie im Kurs)Zwischen Kurseinstieg und Examen müssen 24 Monte vergangen sein.Gesamteinheiten (inkl. PV): 450 UE 								\n				\n					\n		\n				\n			\n						\n				\n					Ihre Ansprechpartnerin				\n				\n				\n				\n									Frau Birgit BerkeSchulleitung Tel: 040 23703 – 552Fax: 040 23703 – 591Mail: physiotherapie.hamburg@grone.de 								\n				\n				\n				\n									VeranstaltungsortGrone Berufsfachschule für PhysiotherapieHeinrich-Grone-Stieg 220097 Hamburg 								\n				\n				\n				\n									\n					\n						\n									Jetzt anmelden\n					\n					\n				\n								\n				\n				\n				\n					\n	\n		\n\n	\n	Zum Kalender hinzufügen	\n		\n	\n\n		\n			\n									\n	Google Kalender\n\n									\n	iCalendar\n\n									\n	Outlook 365\n\n									\n	Outlook Live\n\n							\n		\n\n		\n	\n\n				\n				\n				\n				\n																\n															\n															\n				\n					\n		\n					\n		\n				\n						\n					\n			\n						\n				\n									Kursgebühren inkl. Skript								\n				\n					\n		\n					\n		\n				\n						\n					\n			\n						\n				\n									Start-Kurs EX1:€ 490\,00€ 441\,00*								\n				\n					\n		\n				\n			\n						\n				\n									Kurs EX2-WS3 je:€ 490\,00€ 441\,00*								\n				\n					\n		\n				\n			\n						\n				\n									TU:€ 240\,00€ 216\,00*								\n				\n					\n		\n				\n			\n						\n				\n									Examen:€ 530\,00								\n				\n					\n		\n				\n			\n						\n				\n									PV:€ 490\,00€ 441\,00*								\n				\n					\n		\n					\n		\n				\n						\n					\n			\n							\n		\n				\n			\n						\n				\n									Gesamtkosten (400 UE):€ 3.710\,00€ 3.392\,00*								\n				\n					\n		\n				\n			\n						\n				\n									Gesamtkosten inkl. PV Kurs (450 UE):€ 4.200\,00€ 3.833\,00*								\n				\n					\n		\n				\n			\n							\n		\n					\n		\n				\n						\n					\n			\n						\n				\n									*Ehemalige Schüler*innen des Grone Bildungszentrums für Gesundheits- und Sozialberufe erhalten auf die Kurse EX2-WS3\, TU und PV eine Ermäßigung von 10%! Sie können sich für jeden Kurs einzeln oder für alle zusammen anmelden. Die Kursgebühr ist bis zum jeweiligen Start des Kurses fällig. Sie haben noch Fragen? Sprechen Sie uns gern an oder schreiben Sie uns. Wir freuen uns auf Sie! 								\n				\n					\n		\n					\n		\n				\n						\n					\n			\n						\n				\n									\n					\n						\n									Jetzt anmelden
URL:https://grone-geso.de/kurs/manuelle-therapie-serie-7-examen/
LOCATION:Grone Berufsfachschule für Physiotherapie\, Heinrich-Grone-Stieg 2\, Hamburg\, Hamburg\, 20097\, Germany
CATEGORIES:Manuelle Therapie Serie 7
END:VEVENT
END:VCALENDAR