BEGIN:VCALENDAR
VERSION:2.0
PRODID:-//Grone GeSo - ECPv6.15.20//NONSGML v1.0//EN
CALSCALE:GREGORIAN
METHOD:PUBLISH
X-WR-CALNAME:Grone GeSo
X-ORIGINAL-URL:https://grone-geso.de
X-WR-CALDESC:Veranstaltungen für Grone GeSo
REFRESH-INTERVAL;VALUE=DURATION:PT1H
X-Robots-Tag:noindex
X-PUBLISHED-TTL:PT1H
BEGIN:VTIMEZONE
TZID:Europe/Berlin
BEGIN:DAYLIGHT
TZOFFSETFROM:+0100
TZOFFSETTO:+0200
TZNAME:CEST
DTSTART:20260329T010000
END:DAYLIGHT
BEGIN:STANDARD
TZOFFSETFROM:+0200
TZOFFSETTO:+0100
TZNAME:CET
DTSTART:20261025T010000
END:STANDARD
BEGIN:DAYLIGHT
TZOFFSETFROM:+0100
TZOFFSETTO:+0200
TZNAME:CEST
DTSTART:20270328T010000
END:DAYLIGHT
BEGIN:STANDARD
TZOFFSETFROM:+0200
TZOFFSETTO:+0100
TZNAME:CET
DTSTART:20271031T010000
END:STANDARD
BEGIN:DAYLIGHT
TZOFFSETFROM:+0100
TZOFFSETTO:+0200
TZNAME:CEST
DTSTART:20280326T010000
END:DAYLIGHT
BEGIN:STANDARD
TZOFFSETFROM:+0200
TZOFFSETTO:+0100
TZNAME:CET
DTSTART:20281029T010000
END:STANDARD
END:VTIMEZONE
BEGIN:VEVENT
DTSTART;VALUE=DATE:20270210
DTEND;VALUE=DATE:20270215
DTSTAMP:20260424T181326
CREATED:20260106T105351Z
LAST-MODIFIED:20260318T113136Z
UID:19136-1802217600-1802649599@grone-geso.de
SUMMARY:Viscerale Therapie IV
DESCRIPTION:Viscerale Therapie IV - Fortbildung				\n				\n					\n		\n					\n		\n				\n						\n					\n			\n						\n				\n					Fortbildung für Physiotherapeut*innen 				\n				\n				\n				\n									Die viszerale Therapie beinhaltet die Diagnostik und manuelle Therapie der Organe im Becken\, Bauchraum\, Brustraum und im vorderen Hals sowie des Zwerchfells. Ursprünglich entwickelt wurde die viszerale Therapie von Jean-Pierre Barral und Pierre Mercier aus Frankreich und ist im Laufe der Jahre in die Osteopathie integriert worden. Mittels Mobilisation und Manipulation werden die Mobilität und Motilität der Viszera normalisiert und Dysfunktionen korrigiert. Funktionsstörungen der inneren Organe sind häufig Ursache für Symptome und Pathologien des Bewegungsapparates. Chronischen Schmerzen und anderen parietalen Krankheiten kann man häufig nur mit viszeraler Therapie begegnen. 								\n				\n				\n				\n					Ostheopathie nach dem Biokybernetischem Konzept (BO) der INOMT				\n				\n				\n				\n									INOMT bietet die biokybernetische Osteopathie exklusiv als modulares System an. Alle Weiterbildungsteile fließen in die BO ein. Der Vorteil ist offensichtlich – absolvierte Stunden in der Manuellen Therapie (langes oder kurzes System) oder in anderen orthopädischen Kursen gelten ebenfalls für die parietale BO. Zulassungsvoraussetzung zum Examen Biokybernetische Osteopathie ist der Nachweis von 1350 abgeleisteten Stunden. Der modulare Aufbau unterscheidet obligatorische\, wie cranio-sakrale\, viszerale und fasziale Therapie\, und fakultative Teile.Kurse und abgeschlossene Ausbildungen anderer Fortbildungsanbieter werden grundsätzlich anerkannt\, falls sie in Inhalt und erbrachter Stundenzahl mit den Vorgaben der INOMT übereinstimmen und der Unterricht von anerkannten Fachlehrern abgehalten wurde.Zum Teil können auch Leistungen aus anderen Fort- und Weiterbildungen\, die nicht im Schaubild gelistet sind\, angerechnet werden.Eine vorgeschriebene Reihenfolge beim Absolvieren der Module gibt es nicht\, lediglich bei Ausbildungen wie beispielsweise der Zertifikatsausbildung Manuelle Therapie müssen die dafür geltenden Regeln eingehalten werden.Der Zeitrahmen bis zum Examen BO liegt zwischen minimal 5 und maximal 8 Jahren\, wobei die Obergrenze nicht zwingend vorgeschrieben ist.Die Ausbildung erfolgt nach den Richtlinien der Bundesgemeinschaft Osteopathie (BAO). In diesem Zusammenhang bieten wir Kurse zur „Viszeralen Therapie“ an. Es muss mit dem 1.Teil begonnen werden. Die restliche Reihenfolge ist frei wählbar.   								\n				\n				\n				\n							\n							\n											\n\n												\n													\n										E-Mail schreiben\n											\n									\n								\n											\n\n												\n													\n										Route planen\n											\n									\n						\n						\n				\n					\n		\n				\n			\n						\n				\n					Ihre Ansprechpartnerin				\n				\n				\n				\n									Birgit BerkeSchulleitung 040 23703 – 552040 23703 – 591Mail: physiotherapie.hamburg@grone.de 								\n				\n				\n				\n							\n							\n										Einladung zur Infoveranstaltung\n									\n								\n										Jeden ersten und dritten Mittwoch um 15:30 Uhr\n									\n								\n										Ohne Anmeldung \n									\n						\n						\n				\n				\n				\n									VeranstaltungsortGrone Berufsfachschule für PhysiotherapieHeinrich-Grone-Stieg 220097 Hamburg 								\n				\n				\n				\n					\n	\n		\n\n	\n	Zum Kalender hinzufügen	\n		\n	\n\n		\n			\n									\n	Google Kalender\n\n									\n	iCalendar\n\n									\n	Outlook 365\n\n									\n	Outlook Live\n\n							\n		\n\n		\n	\n\n				\n				\n				\n				\n							\n							\n										Termine\n									\n						\n						\n				\n				\n				\n					\n	\n		\n\n			\n			\n\n			\n			\n				\n											\n\n	\n	\n		\n			Mai		\n		\n			13		\n	\n\n\n	\n		\n			\n\n				\n					\n		\n		13. Mai - 17. Mai	\n	\n					\n	\n		Viscerale Therapie I	\n\n				\n\n				\n			\n		\n	\n\n\n											\n\n	\n	\n		\n			Juli		\n		\n			29		\n	\n\n\n	\n		\n			\n\n				\n					\n		\n		29. Juli - 2. August	\n	\n					\n	\n		Viscerale Therapie II	\n\n				\n\n				\n			\n		\n	\n\n\n											\n\n	\n	\n		\n			Nov.		\n		\n			27		\n	\n\n\n	\n		\n			\n\n				\n					\n		\n		27. November - 1. Dezember	\n	\n					\n	\n		Viscerale Therapie III	\n\n				\n\n				\n			\n		\n	\n\n\n											\n\n	\n	\n		\n			Feb.		\n		\n			10		\n	\n\n\n	\n		\n			\n\n				\n					\n		\n		10.Februar.2027 - 14.Februar.2027	\n	\n					\n	\n		Viscerale Therapie IV	\n\n				\n\n				\n			\n		\n	\n\n\n									\n\n				\n	\n		Kalender anzeigen	\n\n\n					\n	\n\n\n				\n				\n				\n				\n									KostenPro Kurs: 640\,00€Insgesamt: 2.560\,00€ Sonderpreis für ehemalige Schüler*innen: Pro Kurs: 576\,00€ Insgesamt: 2.304\,00€ 								\n				\n				\n				\n									\n					\n						\n									Jetzt anmelden\n					\n					\n				\n								\n				\n					\n		\n					\n		\n				\n						\n					\n			\n						\n				\n									ModulinhalteViscerale Therapie 1 (Behandlung der Oberbauch-Organe) Geschichte und PhilosophieErlerne eine ganzheitliche VorgehensweiseGrundlagen\, Anatomie und Physiologieallg. Einführung in Neurologische Viszerale KorrelationenOrganspezifische Anatomie\, Physiologie und Pathophysiologie von Leber\, Galle\, Duodenum und MagenBehandlungsprinzipienPalpationstechniken sowie Spezifische Untersuchung und Behandlung von Leber\, Galle\, Duodenum und MagenNeuronale und Diaphragmale TechnikenRecoil-TechnikenViscerale Therapie 2 (Behandlung Bauch-Organe) Grundlagen\, Anatomie und PhysiologieOrganspezifische Anatomie\, Physiologie und Pathophysiologie von Jejunum und Ileum\, Colon\, Pankreas\, Milz\, NiereNeuroanatomische Korrelationen im parietalen SystemBehandlungsprinzipienPalpationstechniken sowie Spezifische Untersuchung und Behandlung von Jejunum und Ileum\, Colon\, Pankreas\, Milz\, NiereBehandlungstechniken des arteriellen und venösen Systems\, veno-lymphatische TechnikenViscerale Therapie 3 (Organe des kleinen Beckens) Grundlagen\, Anatomie und PhysiologieOrganspezifische Anatomie\, Physiologie und Pathophysiologie von Blase\, Uterus\, Prostata\, Rectum\, Herz und LungeBiomechanik der Organe des kleinen BeckensNeuroanatomische Korrelationen im parietalen SystemBehandlungsprinzipienPalpationstechniken sowie Spezifische Untersuchung und Behandlung von Blase\, Uterus\, Prostata\, Rectum\, Herz und Lunge – Osteopatisches Clinical Reasoning bei viszeralen PathologienViscerale Therapie 4 (Ergänzungstechniken\, Synthese) Dieser Kurs ist eine Erweiterung und Ergänzung der Untersuchungs- und vor allem der Therapiemöglichkeiten. Sie geben Raum für Reflektion\, Evaluation\, Synthese und Integration der eigenen Erfahrungen. Die Integration und Synthese wird in Kasuistiken vertieft.Repetitorium und ReintegrationPraxis bezogene FallbeispieleBehandlungsprinzipienOsteopatisches Clinical Reasoning bei viszeralen PathologienBiomechanische Ketten\, Ursache-Folge-KettenJeder Kurs findet in der Regel an 5 Tagen (50 Unterrichtsstunden) in den Räumlichkeiten von Grone in Hammerbrook statt. FördermöglichkeitenBei Vorliegen der persönlichen Voraussetzungen ist eine Förderung durch Bildungsprämie (www.bildungspraemie.info) oder Weiterbildungsbonus (www.weiterbildungsbonus.net) möglich. Sie haben noch Fragen? Sprechen Sie uns gern an oder schreiben Sie uns. Wir freuen uns auf Sie!  								\n				\n					\n		\n					\n		\n				\n						\n					\n			\n						\n				\n									\n					\n						\n									Jetzt anmelden
URL:https://grone-geso.de/kurs/viscerale-therapie-5/
LOCATION:Grone Berufsfachschule für Physiotherapie\, Heinrich-Grone-Stieg 2\, Hamburg\, Hamburg\, 20097\, Germany
CATEGORIES:Fachqualifizierungen,Physio,Viscerale Therapie
END:VEVENT
END:VCALENDAR