BEGIN:VCALENDAR
VERSION:2.0
PRODID:-//Grone GeSo - ECPv6.15.20//NONSGML v1.0//EN
CALSCALE:GREGORIAN
METHOD:PUBLISH
X-WR-CALNAME:Grone GeSo
X-ORIGINAL-URL:https://grone-geso.de
X-WR-CALDESC:Veranstaltungen für Grone GeSo
REFRESH-INTERVAL;VALUE=DURATION:PT1H
X-Robots-Tag:noindex
X-PUBLISHED-TTL:PT1H
BEGIN:VTIMEZONE
TZID:Europe/Berlin
BEGIN:DAYLIGHT
TZOFFSETFROM:+0100
TZOFFSETTO:+0200
TZNAME:CEST
DTSTART:20250330T010000
END:DAYLIGHT
BEGIN:STANDARD
TZOFFSETFROM:+0200
TZOFFSETTO:+0100
TZNAME:CET
DTSTART:20251026T010000
END:STANDARD
BEGIN:DAYLIGHT
TZOFFSETFROM:+0100
TZOFFSETTO:+0200
TZNAME:CEST
DTSTART:20260329T010000
END:DAYLIGHT
BEGIN:STANDARD
TZOFFSETFROM:+0200
TZOFFSETTO:+0100
TZNAME:CET
DTSTART:20261025T010000
END:STANDARD
BEGIN:DAYLIGHT
TZOFFSETFROM:+0100
TZOFFSETTO:+0200
TZNAME:CEST
DTSTART:20270328T010000
END:DAYLIGHT
BEGIN:STANDARD
TZOFFSETFROM:+0200
TZOFFSETTO:+0100
TZNAME:CET
DTSTART:20271031T010000
END:STANDARD
END:VTIMEZONE
BEGIN:VEVENT
DTSTART;VALUE=DATE:20260626
DTEND;VALUE=DATE:20260629
DTSTAMP:20260426T020607
CREATED:20250926T083255Z
LAST-MODIFIED:20260318T120700Z
UID:17053-1782432000-1782691199@grone-geso.de
SUMMARY:Schmerztherapie
DESCRIPTION:Schmerztherapie				\n				\n					\n		\n					\n		\n				\n						\n					\n			\n						\n				\n					Schmerztherapie des inomt				\n				\n				\n				\n									Teil 1: Periphere + lokale Mechanismen und Extremitäten Kursbeschreibung:Die Stunden sind anerkannt für die Osteopathie-Ausbildung der INOMTWas ist Nozizeption? Was sind Schmerzen? Und was ist deren Unterschied?Weshalb reagieren Schmerzpatienten so verschieden auf die gleiche Technik?Wie kann man die Patienten effektiv und effizient untersuchen und spezifisch therapieren?Wie hängen die Schmerzen des Patienten mit den anderen Symptomen und Problemen zusammen?Was machen Schmerzmedikamente mit dem Gesamtorganismus Mensch?Theorie:Einführung in die unterschiedlichen Formen der Schmerzsensationen (lokaler entzündungsbedingter Schmerz\, lokaler degenerativ bedingter Schmerz\, vegetative Schmerzen usw.)Unterschied zwischen Schmerz und Nozizeptionlokal-strukturelle Abläufe der neurogenen Entzündung und Aspekte der WundheilungUnterscheidung einer -osis (Arthrose etc.) und einer -itis (Arthritis etc.)neuropathische Schmerzen und neurologische SymptomePraxis:Vermittlung adäquater Techniken für die verschiedenen Formen von SchmerzDas Ebenen-Modell des inomt als Leitfaden für das Verständnis der verschiedenen Schmerzausprägungen und deren TherapieBeispiele der praktischen Anwendungen sind mikromechanische Therapie\, MeridianbehandlungPeriost Techniken\, sowie direkte und indirekte osteopathische Techniken.Neurologische UntersuchungFallbeispiele zur Darstellung der verschiedenen MethodenFallbeispiele dienen als Möglichkeit die Ganzheitlichkeit von Schmerzen zu erkunden.Zielgruppeausgebildete Masseure\, medizinische Bademeister\, Physiotherapeuten\, Krankengymnasten\, Ärzte\, Ergotherapeuten\, Heilpraktiker und sonstige medizinische Berufe ÜbersichtUnterrichtseinheiten: 30Fortbildungspunkte: 30 Seminargebühr460 € Referent/inLehrerteam INOMT 1. Tag 09:00 Uhr – 17:30 Uhr2. Tag 09:00 Uhr – 17:30 Uhr3. Tag 09:00 Uhr – 15:30 Uhr Teil 2 – Aufbaukurs SchmerzKursbeschreibung:Die Stunden sind anerkannt für die Osteopathie-Ausbildung der INOMT Theorie:Neuroanatomie Rückenmark\, Hinterhorn\, Seithorn (NIL)Spinale Schmerzphysiologie\, sekundäre und tertiäre HyperalgesieEinfluss des sympathischen Nervensystems auf das SchmerzgeschehenStörungen des neuromeningealen Systems mit SymptomenPraxis:Wiederholung des Ebenen-Modell des inomt als Leitfaden für das Verständnis der verschiedenen Schmerzausprägungen und deren TherapieVegetative Untersuchung\, Neuromeningeale UntersuchungBeispiele der praktischen Anwendungen wie Meridianbehandlung\, segmentale Behandlungen\, sowie direkte und indirekte osteopathische Techniken.Integration der Techniken und Behandlungskonzepte aus Teil I in weitere KasuistikenWann arbeite ich aggressiv\, harmonisierend oder stimulierend?Zielgruppeausgebildete Masseure\, medizinische Bademeister\, Physiotherapeuten\, Krankengymnasten\, Ärzte\, Ergotherapeuten\, Heilpraktiker und sonstige medizinische Berufe ÜbersichtUnterrichtseinheiten30Fortbildungspunkte30 Seminargebühr460 € Referent/inLehrerteam INOMT 1. Tag 09:00 Uhr – 17:30 Uhr2. Tag 09:00 Uhr – 17:30 Uhr3. Tag 09:00 Uhr – 15:30 Uhr 								\n				\n				\n				\n							\n							\n											\n\n												\n													\n										E-Mail schreiben\n											\n									\n								\n											\n\n												\n													\n										Route planen\n											\n									\n						\n						\n				\n					\n		\n				\n			\n						\n				\n					Ihre Ansprechpartnerin				\n				\n				\n				\n									Frau Birgit BerkeSchulleitung Tel: 040 23703 – 552Fax: 040 23703 – 591Mail: physiotherapie.hamburg@grone.de 								\n				\n				\n				\n									VeranstaltungsortGrone Berufsfachschule für PhysiotherapieHeinrich-Grone-Stieg 220097 Hamburg 								\n				\n				\n				\n					\n	\n		\n\n	\n	Zum Kalender hinzufügen	\n		\n	\n\n		\n			\n									\n	Google Kalender\n\n									\n	iCalendar\n\n									\n	Outlook 365\n\n									\n	Outlook Live\n\n							\n		\n\n		\n	\n\n				\n				\n				\n				\n							\n							\n										Termine\n									\n						\n						\n				\n				\n				\n					\n	\n		\n\n			\n			\n\n			\n			\n				\n											\n\n	\n	\n		\n			Juni		\n		\n			26		\n	\n\n\n	\n		\n			\n\n				\n					\n		\n		26. Juni - 28. Juni	\n	\n					\n	\n		Schmerztherapie	\n\n				\n\n				\n			\n		\n	\n\n\n											\n\n	\n	\n		\n			Nov.		\n		\n			13		\n	\n\n\n	\n		\n			\n\n				\n					\n		\n		13. November - 15. November	\n	\n					\n	\n		Schmerztherapie	\n\n				\n\n				\n			\n		\n	\n\n\n									\n\n				\n	\n		Kalender anzeigen	\n\n\n					\n	\n\n\n				\n				\n				\n				\n							\n							\n										Kursgebühr\n									\n								\n											\n													\n										460\,00 pro Teil\n									\n						\n						\n				\n				\n				\n									\n					\n						\n									Jetzt anmelden\n					\n					\n				\n								\n				\n					\n		\n					\n		\n				\n						\n					\n			\n						\n				\n									\n					\n						\n									Jetzt anmelden
URL:https://grone-geso.de/kurs/schmerztherapie/
LOCATION:Grone Berufsfachschule für Physiotherapie\, Heinrich-Grone-Stieg 2\, Hamburg\, Hamburg\, 20097\, Germany
CATEGORIES:Fachqualifizierungen,Physio,Schmerztherapie
END:VEVENT
END:VCALENDAR