BEGIN:VCALENDAR
VERSION:2.0
PRODID:-//Grone GeSo - ECPv6.15.18//NONSGML v1.0//EN
CALSCALE:GREGORIAN
METHOD:PUBLISH
X-WR-CALNAME:Grone GeSo
X-ORIGINAL-URL:https://grone-geso.de
X-WR-CALDESC:Veranstaltungen für Grone GeSo
REFRESH-INTERVAL;VALUE=DURATION:PT1H
X-Robots-Tag:noindex
X-PUBLISHED-TTL:PT1H
BEGIN:VTIMEZONE
TZID:Europe/Berlin
BEGIN:DAYLIGHT
TZOFFSETFROM:+0100
TZOFFSETTO:+0200
TZNAME:CEST
DTSTART:20250330T010000
END:DAYLIGHT
BEGIN:STANDARD
TZOFFSETFROM:+0200
TZOFFSETTO:+0100
TZNAME:CET
DTSTART:20251026T010000
END:STANDARD
BEGIN:DAYLIGHT
TZOFFSETFROM:+0100
TZOFFSETTO:+0200
TZNAME:CEST
DTSTART:20260329T010000
END:DAYLIGHT
BEGIN:STANDARD
TZOFFSETFROM:+0200
TZOFFSETTO:+0100
TZNAME:CET
DTSTART:20261025T010000
END:STANDARD
BEGIN:DAYLIGHT
TZOFFSETFROM:+0100
TZOFFSETTO:+0200
TZNAME:CEST
DTSTART:20270328T010000
END:DAYLIGHT
BEGIN:STANDARD
TZOFFSETFROM:+0200
TZOFFSETTO:+0100
TZNAME:CET
DTSTART:20271031T010000
END:STANDARD
BEGIN:DAYLIGHT
TZOFFSETFROM:+0100
TZOFFSETTO:+0200
TZNAME:CEST
DTSTART:20280326T010000
END:DAYLIGHT
BEGIN:STANDARD
TZOFFSETFROM:+0200
TZOFFSETTO:+0100
TZNAME:CET
DTSTART:20281029T010000
END:STANDARD
END:VTIMEZONE
BEGIN:VEVENT
DTSTART;VALUE=DATE:20261116
DTEND;VALUE=DATE:20270911
DTSTAMP:20260419T215825
CREATED:20250926T092003Z
LAST-MODIFIED:20260310T121635Z
UID:17175-1794787200-1820620799@grone-geso.de
SUMMARY:Bobath-Grundkurs für Kinder und Jugendliche 2026/2027
DESCRIPTION:Bobath-Grundkurs (Kinder und Jugendliche)				\n				\n				\n				\n									10 -wöchige Fortbildung zum*zur zertifizierten Bobath-Therapeut*in 								\n				\n					\n		\n					\n		\n				\n						\n					\n			\n						\n				\n					Das Bobath-Konzept\n				\n				\n				\n				\n									Das Bobath-Konzept ist ein weltweit verbreitetes Therapiekonzept für Kinder\, Jugendliche und Erwachsene. Es basiert auf neurophysiologischen und entwicklungsneurologischen Grundlagen und orientiert sich an den Ressourcen des Patienten. Es steht für ein handlungs- und alltagsorientiertes\, familienzentriertes und wissenschaftsbasiertes Therapiekonzept. Es ist ein Behandlungskonzept für Kinder\, Jugendliche und Erwachsene mit angeborenen bzw. frühkindlich erworbenen zerebralen Bewegungsstörungen\, Entwicklungsverzögerungen unklarer Genese\, sensomotorischen Störungen und anderen neurologischen sowie neuromuskulären Erkrankungen. 								\n				\n				\n				\n					Mit uns zu Ihrer Weiterbildung!				\n				\n				\n				\n									Die Weiterbildung entspricht den Richtlinien der European Bobath Tutors Associaton (E.B.T.A.) sowie dem Curriculum der Gemeinsamen Konferenz der deutschen Bobath-Kurse (G.K.B./ 2023) und den qualitätssichernden Papieren des Bobath Zukunft! e.V. Lehrende in der Pädiatrie.Die Weiterbildung erfolgt als berufsbegleitender Lehrgang mit mindestens 400 Unterrichtseinheiten. Insgesamt werden 5 Kursblöcke verteilt auf ein Jahr angeboten. Entsprechend der erteilten Unterrichtseinheiten werden gemäß der Rahmenempfehlung nach § 125 Abs. 1 SGB V 400 Fortbildungspunkte vergeben. Nach erfolgreichem Abschluss kann mit dem erlangten Zertifikat (Bobath Zukunft! e.V) die Abrechnungsbefugnis zur Abrechnung der Positionen 20708 KG-ZNS Kinder (Bobath) und 20710 KG-ZNS (Bobath) bei den Krankenkassen beantragt werden. 								\n				\n				\n				\n							\n							\n											\n\n												\n													\n										E-Mail schreiben\n											\n									\n								\n											\n\n												\n													\n										Route planen\n											\n									\n								\n											\n\n												\n													\n										AGB\n											\n									\n						\n						\n				\n				\n				\n																\n															\n															\n				\n					\n		\n				\n			\n						\n				\n					Ihre Ansprechpartnerin				\n				\n				\n				\n									Birgit BerkeSchulleitung 040 23703 – 552040 23703 – 591physiotherapie.hamburg@grone.de 								\n				\n				\n				\n									VeranstaltungsortGrone Berufsfachschule für PhysiotherapieHeinrich-Grone-Stieg 220097 Hamburg 								\n				\n				\n				\n					\n	\n		\n\n	\n	Zum Kalender hinzufügen	\n		\n	\n\n		\n			\n									\n	Google Kalender\n\n									\n	iCalendar\n\n									\n	Outlook 365\n\n									\n	Outlook Live\n\n							\n		\n\n		\n	\n\n				\n				\n				\n				\n									Termine								\n				\n				\n				\n					\n	\n		\n\n			\n			\n\n			\n			\n				\n											\n\n	\n	\n		\n			Nov.		\n		\n			16		\n	\n\n\n	\n		\n			\n\n				\n					\n		\n		16.November.2026 - 10.September.2027	\n	\n					\n	\n		Bobath-Grundkurs für Kinder und Jugendliche 2026/2027	\n\n				\n\n				\n			\n		\n	\n\n\n											\n\n	\n	\n		\n			Juni		\n		\n			2		\n	\n\n\n	\n		\n			\n\n				\n					\n		\n		2.Juni.2027 - 12.Mai.2028	\n	\n					\n	\n		Bobath-Grundkurs für Kinder und Jugendliche 2027/2028	\n\n				\n\n				\n			\n		\n	\n\n\n									\n\n				\n	\n		Kalender anzeigen	\n\n\n					\n	\n\n\n				\n				\n				\n				\n							\n							\n										\n									\n								\n										Unterrichtsform\n									\n								\n										Vollzeit\n									\n								\n										Kursart\n									\n								\n										Fortbildung / Qualifizierung\n									\n								\n										Dauer\n									\n								\n										10 Wochen (400 Unterrichtsstunden)\n									\n								\n										Gefördert\n									\n								\n										Ja\n									\n						\n						\n				\n				\n				\n							\n							\n										Kursgebühr\n									\n								\n											\n													\n										6.600\,00\n									\n						\n						\n				\n				\n				\n									\n					\n						\n									Jetzt bewerben\n					\n					\n				\n								\n				\n					\n		\n					\n		\n				\n						\n					\n			\n						\n				\n									Lerninhalte\nDie Kursinhalte werden nach dem Curriculum (2023) der „Gemeinsamen Konferenz der deutschen Bobath-Kurse e.V.“ vermittelt und sind auf sechs Lernbereiche verteilt: \n\nGrundlagen des Bobath-Konzeptes\nGrundlagen Bewegung und Entwicklung\nPsychosoziale Grundlagen\nTherapeutischer Prozess im Bobath Konzept\nTherapeutisches Vorgehen\nKlinische Erscheinungsbilder\nSupervisierte Arbeit mit Patienten (Praxisschwerpunkt)\n\nDer Kurs wird interaktiv\, multimedial und digital begleitet. \nWährend der gesamten Weiterbildung werden sogenannte Lernerfolgskontrollen lernbereichsübergreifend in unterschiedlicher Form (mündlich\, schriftlich\, praktisch\, Video) durchgeführt. Der Kurs schließt mit einer qualifizierenden Abschlussarbeit ab\, die aus einer Behandlungssequenz per Videodokumentation und einem schriftlichen Teil besteht.Neben der Vermittlung von neurophysiologischen Kenntnissen\, Befunderhebung und Dokumentation sowie Planung und Durchführung der Behandlung hat auch die Förderung der fachlichen\, sozialen\, methodischen und persönlichen Kompetenzen einen hohen Stellenwert. \nWeitere Informationen zum zertifizierten Bobath-Kurs können Sie der Website des Bobath Zukunft!e.V. entnehmen: https://www.bobath-zukunft.de \nTeilnahmevoraussetzungen\n\nStaatliche Anerkennung / Approbation\nmindestens zwei Jahre Berufserfahrung als Physiotherapeut*in\, Ergotherapeut*in\, Logopäde*in oder Ärzt*in und davon nachgewiesene 12 Monate mit Patient*innen im Kindes- und Jugendalter\nNachweis über die Möglichkeit\, in den Zeiten zwischen den Kursteilen mit Patienten mit entsprechender Indikation zu arbeiten\n\nTermine\nBlock 1:\n16.11.26 – 20.11.2026\n22.11.26 – 27.11.2026\nBlock 2:\n11.01.27 – 15.01.2027\n16.01.27 – 20.01.2027Block 3:\n05.04.27– 09.04.202711.04.27 – 15.04.2027Block 4:\n14.06.27 – 18.06.202719.06.27 – 23.06.2027Block 5:\n01.09.27 – 5.09.202706.09.27 – 10.09.2027\nKursgebühr\n6.600\,00 € \nBei Vorliegen der persönlichen Voraussetzungen ist eine Förderung durch Bildungsprämie (www.bildungspraemie.info) oder Weiterbildungsbonus (www.weiterbildungsbonus.net) möglich. \nAnmeldung/Bewerbung \nDie Bewerbungsfrist für den Kursstart im November 2026 war vom 01. – 31.01.2026. Bewerbungen außerhalb dieses Zeitraumes können leider nicht bearbeitet werden. Die nächsten Anmeldungen werden in der Zeit vom 01.08. – 31.08.2026 entgegen genommen.  \nWir benötigen von Ihnen: \n\nkurzes Bewerbungsschreiben\nLebenslauf mit Lichtbild\nAnmeldeformulare (siehe unten)\nNachweis über Berufserfahrung\nZeugniskopie des Staatsexamens\nKopie der Examensurkunde\nBewerbungsunterlagen bitte in einer PDF zusammenfassen\n								\n				\n					\n		\n					\n		\n				\n						\n					\n			\n						\n				\n									\n					\n						\n									Jetzt bewerben
URL:https://grone-geso.de/kurs/bobath-grundkurs-fuer-kinder-und-jugendliche-2026-2027/
CATEGORIES:Bobath,Ergo,Fachqualifizierungen,Physio
END:VEVENT
END:VCALENDAR