BEGIN:VCALENDAR
VERSION:2.0
PRODID:-//Grone GeSo - ECPv6.15.20//NONSGML v1.0//EN
CALSCALE:GREGORIAN
METHOD:PUBLISH
X-WR-CALNAME:Grone GeSo
X-ORIGINAL-URL:https://grone-geso.de
X-WR-CALDESC:Veranstaltungen für Grone GeSo
REFRESH-INTERVAL;VALUE=DURATION:PT1H
X-Robots-Tag:noindex
X-PUBLISHED-TTL:PT1H
BEGIN:VTIMEZONE
TZID:Europe/Berlin
BEGIN:DAYLIGHT
TZOFFSETFROM:+0100
TZOFFSETTO:+0200
TZNAME:CEST
DTSTART:20250330T010000
END:DAYLIGHT
BEGIN:STANDARD
TZOFFSETFROM:+0200
TZOFFSETTO:+0100
TZNAME:CET
DTSTART:20251026T010000
END:STANDARD
BEGIN:DAYLIGHT
TZOFFSETFROM:+0100
TZOFFSETTO:+0200
TZNAME:CEST
DTSTART:20260329T010000
END:DAYLIGHT
BEGIN:STANDARD
TZOFFSETFROM:+0200
TZOFFSETTO:+0100
TZNAME:CET
DTSTART:20261025T010000
END:STANDARD
BEGIN:DAYLIGHT
TZOFFSETFROM:+0100
TZOFFSETTO:+0200
TZNAME:CEST
DTSTART:20270328T010000
END:DAYLIGHT
BEGIN:STANDARD
TZOFFSETFROM:+0200
TZOFFSETTO:+0100
TZNAME:CET
DTSTART:20271031T010000
END:STANDARD
END:VTIMEZONE
BEGIN:VEVENT
DTSTART;VALUE=DATE:20260815
DTEND;VALUE=DATE:20260817
DTSTAMP:20260424T145302
CREATED:20250909T125824Z
LAST-MODIFIED:20260318T115503Z
UID:16972-1786752000-1786924799@grone-geso.de
SUMMARY:Atlastherapie nach dem biokybernetischen Konzept
DESCRIPTION:Atlastherapie nach biokybernetischen Konzept				\n				\n					\n		\n					\n		\n				\n						\n					\n			\n						\n				\n					Fortbildung für Physiotherapeut*innen 				\n				\n				\n				\n									Ein neurophysiologisches Behandlungskonzept zur Beeinflussung von Störungen im Bereich Atlas-Axis-Okziput. Der erste Halswirbel als Schlüsselsegment kann bei Patienten extreme Probleme verursachen. Durch die Atlastherapie wird das Kiefergelenk\, die Körperstatik und -motorik\, der Spannungszustand der Muskulatur\, die Funktion der inneren Organe sowie die nervale Steuerung des Gewebes beeinflusst. Kursinhalt:anatomische Grundlagen\, die hochzervikale Muskulaturbiomechanische Aspekte der Funktionseinheit Kopfgelenkeneurophysiologische Grundlagen\, Störfelder der oberen HWSWirkungsweise der AtlastherapiePalpation und Befunderhebungfunktionelle Untersuchung und Interpretation\, Differentialdiagnostikspezifische Behandlungstechniken des Atlasdurale\, craniale\, manuelle Techniken\, Augenfazilitation\, myofasziale Techniken								\n				\n				\n				\n					Sprechen Sie uns an!				\n				\n				\n				\n									In der Regel findet unser Kurs in den Räumlichkeiten von Grone in Hammerbrook statt. Die Kosten betragen 290\,00 Euro.Sie haben noch Fragen? Sprechen Sie uns gern an oder schreiben Sie uns. Wir freuen uns auf Sie!  								\n				\n				\n				\n							\n							\n											\n\n												\n													\n										E-Mail schreiben\n											\n									\n								\n											\n\n												\n													\n										Route planen\n											\n									\n						\n						\n				\n					\n		\n				\n			\n						\n				\n					Ihre Ansprechpartnerin				\n				\n				\n				\n									Frau Birgit BerkeSchulleitung Tel: 040 23703 – 552Fax: 040 23703 – 591Mail: physiotherapie.hamburg@grone.de 								\n				\n				\n				\n									VeranstaltungsortGrone Berufsfachschule für PhysiotherapieHeinrich-Grone-Stieg 220097 Hamburg 								\n				\n				\n				\n					\n	\n		\n\n	\n	Zum Kalender hinzufügen	\n		\n	\n\n		\n			\n									\n	Google Kalender\n\n									\n	iCalendar\n\n									\n	Outlook 365\n\n									\n	Outlook Live\n\n							\n		\n\n		\n	\n\n				\n				\n				\n				\n									Termine								\n				\n				\n				\n					\n	\n		\n\n			\n			\n\n			\n			\n				\n											\n\n	\n	\n		\n			Aug.		\n		\n			15		\n	\n\n\n	\n		\n			\n\n				\n					\n		\n		15. August - 16. August	\n	\n					\n	\n		Atlastherapie nach dem biokybernetischen Konzept	\n\n				\n\n				\n			\n		\n	\n\n\n									\n\n				\n	\n		Kalender anzeigen	\n\n\n					\n	\n\n\n				\n				\n				\n				\n									\n					\n						\n									Jetzt anmelden\n					\n					\n				\n								\n				\n					\n		\n					\n		\n				\n						\n					\n			\n						\n				\n									\n					\n						\n									Jetzt anmelden
URL:https://grone-geso.de/kurs/atlastherapie-nach-dem-biokybernetischen-konzept/
LOCATION:Grone Berufsfachschule für Physiotherapie\, Heinrich-Grone-Stieg 2\, Hamburg\, Hamburg\, 20097\, Germany
CATEGORIES:Fachqualifizierungen,Physio
END:VEVENT
END:VCALENDAR